BEGIN:VCALENDAR
VERSION:2.0
PRODID:-//Squarespace Inc/Squarespace 6//v6//EN
BEGIN:VEVENT
UID:5ff15e18fc8ee327dd28b933@squarespace.com
DTSTAMP:20200624T162611Z
DTSTART:20210102T170000Z
DTEND:20210102T180000Z
SUMMARY:Event Two
END:VEVENT
END:VCALENDAR
